BEGIN:VCALENDAR
VERSION:2.0
PRODID:-//ChamberMaster//Event Calendar 2.0//EN
METHOD:PUBLISH
X-PUBLISHED-TTL:P3D
REFRESH-INTERVAL:P3D
CALSCALE:GREGORIAN
BEGIN:VEVENT
DTSTART:20260616T203000Z
DTEND:20260616T223000Z
X-MICROSOFT-CDO-ALLDAYEVENT:FALSE
SUMMARY:General Membership Mixer (GMM)
DESCRIPTION:Who: HBA members and guests\n\nWhat: General Membership Mixer\n\nWhen: Tuesday\, June 16th\n\nWhere:  La Palma Mexican Grill 1690 Citrus Blvd Leesburg\, FL 34748 \n\nWhy: This is your opportunity to network\, collaborate\, and discover how you can get more involved in the association. Don't miss out on valuable connections and insights that could benefit you and your business. Bring a friend or two to make the most of this event!\n\n\n\nRSVP now!
X-ALT-DESC;FMTTYPE=text/html:<p data-end="437" data-start="0"><strong data-end="8" data-start="0">Who:</strong> HBA members and guests<br data-end="34" data-is-only-node="" data-start="31" />\n<strong data-end="43" data-start="34">What:</strong> General Membership Mixer<br data-end="73" data-start="70" />\n<strong data-end="82" data-start="73">When:</strong> Tuesday\, June&nbsp\;16th<br data-end="105" data-start="102" />\n<strong data-end="115" data-start="105">Where:</strong>&nbsp\;&#8203\;La Palma Mexican Grill&nbsp\;<span style="color: rgb(70\, 78\, 86)\; font-family: Roboto\, &quot\;helvetica neue&quot\;\, helvetica\, arial\, sans-serif\; font-size: 14px\;">1690 Citrus Blvd&nbsp\;</span><span class="d-ib fw-n lh-20 fz-14 fc-charcoal" style="display: inline-block\; line-height: 20px\; color: rgb(70\, 78\, 86)\; font-size: 14px\; font-family: Roboto\, &quot\;helvetica neue&quot\;\, helvetica\, arial\, sans-serif\;">Leesburg\, FL 34748</span><span style="color: rgb(77\, 81\, 86)\; font-family: Roboto\, &quot\;helvetica neue&quot\;\, helvetica\, arial\, sans-serif\;">&nbsp\;</span><br data-end="169" data-start="166" />\n<strong data-end="177" data-start="169">Why:</strong> This is your opportunity to network\, collaborate\, and discover how you can get more involved in the association. Don&rsquo\;t miss out on valuable connections and insights that could benefit you and your business. Bring a friend or two to make the most of this event!<br />\n<br />\n<strong data-end="452" data-is-last-node="" data-start="439">RSVP now!</strong></p>\n
LOCATION:Location: La Palma Mexican Grill 1690 Citrus BlvdLeesburg\, FL 34748
UID:e.9426.4475
SEQUENCE:3
DTSTAMP:20260422T134328Z
URL:http://lakesumterflhba.memberzone.com/events/details/general-membership-mixer-gmm-4475
END:VEVENT

END:VCALENDAR
